BEGIN:VCALENDAR
VERSION:2.0
PRODID:-//Squarespace Inc/Squarespace 6//v6//EN
BEGIN:VEVENT
UID:580ded9f59cc689a7b449f1d@squarespace.com
DTSTAMP:20161024T111858Z
DTSTART:20161028T210000Z
DTEND:20161030T000000Z
SUMMARY:The Duxton
END:VEVENT
END:VCALENDAR
