BEGIN:VCALENDAR
VERSION:2.0
PRODID:-//Squarespace Inc/Squarespace 6//v6//EN
BEGIN:VEVENT
UID:57ff697c197aeafac4549a44@squarespace.com
DTSTAMP:20161013T110318Z
DTSTART:20161126T210000Z
DTEND:20161128T000000Z
SUMMARY:Lucy Sugerman EP Launch
END:VEVENT
END:VCALENDAR
