BEGIN:VCALENDAR
VERSION:2.0
PRODID:-//Squarespace Inc/Squarespace 6//v6//EN
BEGIN:VEVENT
UID:57ff6a0e5016e106fae80158@squarespace.com
DTSTAMP:20161013T110406Z
DTSTART:20161127T210000Z
DTEND:20161129T000000Z
SUMMARY:Public @ Manuka
END:VEVENT
END:VCALENDAR
