BEGIN:VCALENDAR
VERSION:2.0
PRODID:-//Squarespace Inc/Squarespace 6//v6//EN
BEGIN:VEVENT
UID:57ff69109de4bb5118859e1a@squarespace.com
DTSTAMP:20161013T110019Z
DTSTART:20161105T230000Z
DTEND:20161106T000000Z
SUMMARY:Snowy Ride
END:VEVENT
END:VCALENDAR
