BEGIN:VCALENDAR
VERSION:2.0
PRODID:-//Squarespace Inc/Squarespace 6//v6//EN
BEGIN:VEVENT
UID:580dee43b3db2b51a4444504@squarespace.com
DTSTAMP:20161024T112014Z
DTSTART:20161202T220000Z
DTEND:20161204T010000Z
SUMMARY:The Duxton
END:VEVENT
END:VCALENDAR
