BEGIN:VCALENDAR
VERSION:2.0
PRODID:-//Squarespace Inc/Squarespace 6//v6//EN
BEGIN:VEVENT
UID:57ff6a5b9de4bb511885a478@squarespace.com
DTSTAMP:20161024T111635Z
DTSTART:20161205T010000Z
DTEND:20161205T040000Z
SUMMARY:ALBUM LAUNCH
END:VEVENT
END:VCALENDAR
