BEGIN:VCALENDAR
VERSION:2.0
PRODID:-//Squarespace Inc/Squarespace 6//v6//EN
BEGIN:VEVENT
UID:574e69bbf8baf3110fc63ca0@squarespace.com
DTSTAMP:20160601T045316Z
DTSTART:20160612T190000Z
DTEND:20160612T220000Z
SUMMARY:Public
END:VEVENT
END:VCALENDAR
