BEGIN:VCALENDAR
VERSION:2.0
PRODID:-//Squarespace Inc/Squarespace 6//v6//EN
BEGIN:VEVENT
UID:574e697f2fe1312f2f9e2d68@squarespace.com
DTSTAMP:20160601T045238Z
DTSTART:20160603T000000Z
DTEND:20160603T030000Z
SUMMARY:Transit Bar
END:VEVENT
END:VCALENDAR
