BEGIN:VCALENDAR
VERSION:2.0
PRODID:-//Squarespace Inc/Squarespace 6//v6//EN
BEGIN:VEVENT
UID:577c52c02e69cf891845babd@squarespace.com
DTSTAMP:20160908T141813Z
DTSTART:20160706T010000Z
DTEND:20160706T020000Z
SUMMARY:Snow Tour
END:VEVENT
END:VCALENDAR
