BEGIN:VCALENDAR
VERSION:2.0
PRODID:-//Squarespace Inc/Squarespace 6//v6//EN
BEGIN:VEVENT
UID:577c4cc5725e25e0af02615f@squarespace.com
DTSTAMP:20160706T003703Z
DTSTART:20160706T003000Z
DTEND:20160801T013000Z
SUMMARY:Snow Tour
END:VEVENT
END:VCALENDAR
